BEGIN:VCALENDAR
VERSION:2.0
PRODID:-//astrosociety.org//NONSGML kigkonsult.se iCalcreator 2.30.10//
CALSCALE:GREGORIAN
METHOD:PUBLISH
UID:74d68c2a-a79b-44c9-a3fa-c42d7326f599
X-WR-CALDESC:Ticket sales ended November 2.\n\nEach year\, the ASP celebrat
 es and honors it's Annual Awardees for the prestigious Catherine Wolf Bruc
 e\, Robert J.Trumpler and Klumpke-Roberts Awards. This year we add the Nan
 cy Grace Roman and Thomas J. Brennan awardees\, along with the ASP Fraknoi
  Awardee chosen by the ASP staff. \n\nThe Gala\, including a reception wit
 h live music\, banquet meal\, and the awards presentations\, will be held 
 in person at the Hilton San Francisco Airport Bayfront Hotel\, Burlingame\
 , CA on Saturday\, November 8 starting at 5:00pm Pacific Time.\n\n
X-WR-RELCALID:c8ce7c7a8514036fc2bebc9cf9e48d36
X-WR-TIMEZONE:America/Los_Angeles
BEGIN:VTIMEZONE
TZID:America/Los_Angeles
BEGIN:STANDARD
TZNAME:PST
DTSTART:20251102T020000
TZOFFSETFROM:-0700
TZOFFSETTO:-0800
RDATE:20261101T020000
END:STANDARD
BEGIN:DAYLIGHT
TZNAME:PDT
DTSTART:20250309T020000
TZOFFSETFROM:-0800
TZOFFSETTO:-0700
RDATE:20260308T020000
RDATE:20270314T020000
END:DAYLIGHT
END:VTIMEZONE
BEGIN:VEVENT
UID:f4520f29-0738-4fc3-a45f-7afb5bca6903
DTSTAMP:20260421T191748Z
DESCRIPTION:Ticket sales ended November 2.\n\nEach year\, the ASP celebrate
 s and honors it's Annual Awardees for the prestigious Catherine Wolf Bruce
 \, Robert J.Trumpler and Klumpke-Roberts Awards. This year we add the Nanc
 y Grace Roman and Thomas J. Brennan awardees\, along with the ASP Fraknoi 
 Awardee chosen by the ASP staff. \n\nThe Gala\, including a reception with
  live music\, banquet meal\, and the awards presentations\, will be held i
 n person at the Hilton San Francisco Airport Bayfront Hotel\, Burlingame\,
  CA on Saturday\, November 8 starting at 5:00pm Pacific Time.\n\n
DTSTART;TZID=America/Los_Angeles:20251108T030000
DTEND;TZID=America/Los_Angeles:20251108T030001
LOCATION:Hilton San Francisco Airport Bayfront Hotel\, Burlingame\, CA
SUMMARY:ASP2025 Awards Gala\, Burlingame\, CA
END:VEVENT
END:VCALENDAR
