BEGIN:VCALENDAR
VERSION:2.0
PRODID:-//astrosociety.org//NONSGML kigkonsult.se iCalcreator 2.30.10//
CALSCALE:GREGORIAN
METHOD:PUBLISH
UID:b9bed3df-7ae0-462a-a230-159b1a34fb62
X-WR-CALDESC:NOTE: This is the rescheduled workshop that was canceled on Oc
 tober 21.\n\nJoin Theresa Summer\, ASP's Astronomy Educator on November 18
 \, 2025 for a Learn@ ASP Online Workshop - Young Children as Scientists: R
 evisiting My Sky Tonight \n\nMy Sky Tonight was a collaborative program an
 d research initiative focused on engaging 3 to 5-year-old children in scie
 nce practices through hands-on astronomy activities\, funded by the Nation
 al Science Foundation (NSF). The project team created a set of research-ba
 sed\, hands-on astronomy activities that are rich in science practices and
  designed to be developmentally appropriate for pre-K children\, covering 
 topics such as changing shadows\, Moon phases\, day and night\, and space 
 exploration.\n\nThis workshop will share best practices of working with yo
 ung children\, some of the online assets available to informal educators\,
  and activities that are frequently used by libraries\, museums\, and park
 s. In addition\, we will share a list of materials used for running the ac
 tivities\, and instructions for crafting your own substitutes or how you c
 an buy the original kit of materials.\n\nParticipants will gain the follow
 ing through participation in the workshop:\n\n    Guidelines for engaging 
 with young children\n    Discussion among participants sharing experiences
  with engaging young learners\n    Activity ideas\n    Strategies we have 
 found successful at engaging learners of all ages\n    Access to astronomy
  experts who will facilitate the workshop\n    A certificate of completion
  for participating in 2 clock hours of professional development.\n\nRegist
 ration: $40\n\nAttendance/Refund Policy\n\nLive attendance is strongly enc
 ouraged and expected in order to get the most out of the interactive sessi
 on. A recording will be available for those who cannot attend live or who 
 would like to review the content. Full refund is available for cancellatio
 ns up to 14 days prior to the start of the workshop. If you need to cancel
  please email learn@astrosociety.org.
X-WR-RELCALID:4120fd37255b36e6651905ccb670a754
X-WR-TIMEZONE:America/Los_Angeles
BEGIN:VTIMEZONE
TZID:America/Los_Angeles
BEGIN:STANDARD
TZNAME:PST
DTSTART:20251102T020000
TZOFFSETFROM:-0700
TZOFFSETTO:-0800
RDATE:20261101T020000
END:STANDARD
BEGIN:DAYLIGHT
TZNAME:PDT
DTSTART:20250309T020000
TZOFFSETFROM:-0800
TZOFFSETTO:-0700
RDATE:20260308T020000
RDATE:20270314T020000
END:DAYLIGHT
END:VTIMEZONE
BEGIN:VEVENT
UID:f471edb6-7b2f-4602-af17-0fc9a1bb55f6
DTSTAMP:20260421T191954Z
DESCRIPTION:NOTE: This is the rescheduled workshop that was canceled on Oct
 ober 21.\n\nJoin Theresa Summer\, ASP's Astronomy Educator on November 18\
 , 2025 for a Learn@ ASP Online Workshop - Young Children as Scientists: Re
 visiting My Sky Tonight \n\nMy Sky Tonight was a collaborative program and
  research initiative focused on engaging 3 to 5-year-old children in scien
 ce practices through hands-on astronomy activities\, funded by the Nationa
 l Science Foundation (NSF). The project team created a set of research-bas
 ed\, hands-on astronomy activities that are rich in science practices and 
 designed to be developmentally appropriate for pre-K children\, covering t
 opics such as changing shadows\, Moon phases\, day and night\, and space e
 xploration.\n\nThis workshop will share best practices of working with you
 ng children\, some of the online assets available to informal educators\, 
 and activities that are frequently used by libraries\, museums\, and parks
 . In addition\, we will share a list of materials used for running the act
 ivities\, and instructions for crafting your own substitutes or how you ca
 n buy the original kit of materials.\n\nParticipants will gain the followi
 ng through participation in the workshop:\n\n    Guidelines for engaging w
 ith young children\n    Discussion among participants sharing experiences 
 with engaging young learners\n    Activity ideas\n    Strategies we have f
 ound successful at engaging learners of all ages\n    Access to astronomy 
 experts who will facilitate the workshop\n    A certificate of completion 
 for participating in 2 clock hours of professional development.\n\nRegistr
 ation: $40\n\nAttendance/Refund Policy\n\nLive attendance is strongly enco
 uraged and expected in order to get the most out of the interactive sessio
 n. A recording will be available for those who cannot attend live or who w
 ould like to review the content. Full refund is available for cancellation
 s up to 14 days prior to the start of the workshop. If you need to cancel 
 please email learn@astrosociety.org.
DTSTART;TZID=America/Los_Angeles:20251118T110000
DTEND;TZID=America/Los_Angeles:20251118T123000
LOCATION:
SUMMARY:Learn@ ASP Online Workshop - Young Children as Scientists: Revisiti
 ng My Sky Tonight
END:VEVENT
END:VCALENDAR
