BEGIN:VCALENDAR
VERSION:2.0
PRODID:-//astrosociety.org//NONSGML kigkonsult.se iCalcreator 2.30.10//
CALSCALE:GREGORIAN
METHOD:PUBLISH
UID:929c065e-49d4-4add-8f5a-a32013c18c6f
X-WR-CALDESC:Don't miss out on our year-end\, most popular Webinar!\n\nJoin
  the NASA Night Sky Network on Thursday\, December 11\, at 6:00 PM Pacific
  Time (9:00 PM Eastern) along with Dr. Robert Nemiroff for a tour of highl
 ights from the Astronomy Picture of the Day archive for 2025.\n\nAbout Dr.
  Robert Nemiroff:\n\nDr. Robert Nemiroff is a professor of physics at Mich
 igan Tech. He worked at NASA's Goddard Space Flight Center in Maryland bef
 ore coming to Michigan Tech. He is perhaps best known scientifically for p
 apers predicting\, usually among others\, several recovered microlensing p
 henomena\, and papers showing\, usually among others\, that gamma-ray burs
 ts were consistent with occurring at cosmological distances. He led a grou
 p that developed and deployed the first online fisheye night sky monitor\,
  called CONCAMs\, deploying later models to most major astronomical observ
 atories. He has published as first author and refereed for every major jou
 rnal in astronomy and astrophysics. His current research interests include
  trying to limit attributes of our universe with distant gamma-ray bursts 
 and investigating the use of relativistic illumination fronts to orient as
 tronomical nebulae.\n\n\nNight Sky Network \nhttps://nightsky.jpl.nasa.gov
 \n\nAstronomical Society of the Pacific\nhttps://astrosociety.org
X-WR-RELCALID:d0678c2b61c83adfa0cc77f7766f1656
X-WR-TIMEZONE:America/Los_Angeles
BEGIN:VTIMEZONE
TZID:America/Los_Angeles
BEGIN:STANDARD
TZNAME:PST
DTSTART:20251102T020000
TZOFFSETFROM:-0700
TZOFFSETTO:-0800
RDATE:20261101T020000
END:STANDARD
BEGIN:DAYLIGHT
TZNAME:PDT
DTSTART:20250309T020000
TZOFFSETFROM:-0800
TZOFFSETTO:-0700
RDATE:20260308T020000
RDATE:20270314T020000
END:DAYLIGHT
END:VTIMEZONE
BEGIN:VEVENT
UID:f9e56b6c-a04f-4c0f-ac28-7ff2f5dd6778
DTSTAMP:20260421T210323Z
DESCRIPTION:Don't miss out on our year-end\, most popular Webinar!\n\nJoin 
 the NASA Night Sky Network on Thursday\, December 11\, at 6:00 PM Pacific 
 Time (9:00 PM Eastern) along with Dr. Robert Nemiroff for a tour of highli
 ghts from the Astronomy Picture of the Day archive for 2025.\n\nAbout Dr. 
 Robert Nemiroff:\n\nDr. Robert Nemiroff is a professor of physics at Michi
 gan Tech. He worked at NASA's Goddard Space Flight Center in Maryland befo
 re coming to Michigan Tech. He is perhaps best known scientifically for pa
 pers predicting\, usually among others\, several recovered microlensing ph
 enomena\, and papers showing\, usually among others\, that gamma-ray burst
 s were consistent with occurring at cosmological distances. He led a group
  that developed and deployed the first online fisheye night sky monitor\, 
 called CONCAMs\, deploying later models to most major astronomical observa
 tories. He has published as first author and refereed for every major jour
 nal in astronomy and astrophysics. His current research interests include 
 trying to limit attributes of our universe with distant gamma-ray bursts a
 nd investigating the use of relativistic illumination fronts to orient ast
 ronomical nebulae.\n\n\nNight Sky Network \nhttps://nightsky.jpl.nasa.gov
 \n\nAstronomical Society of the Pacific\nhttps://astrosociety.org
DTSTART;TZID=America/Los_Angeles:20251211T180000
DTEND;TZID=America/Los_Angeles:20251211T190000
LOCATION:
SUMMARY:NSN Webinar Series - 2025 Astronomy Picture of the Day with Dr. Rob
 ert Nemiroff
END:VEVENT
END:VCALENDAR
