BEGIN:VCALENDAR
VERSION:2.0
PRODID:-//astrosociety.org//NONSGML kigkonsult.se iCalcreator 2.30.10//
CALSCALE:GREGORIAN
METHOD:PUBLISH
UID:82854218-0bc6-4644-8adb-42ba7645529d
X-WR-CALDESC:
X-WR-RELCALID:2d1d0932324bf5585440fb336de2c873
X-WR-TIMEZONE:America/Los_Angeles
BEGIN:VTIMEZONE
TZID:America/Los_Angeles
BEGIN:STANDARD
TZNAME:PST
DTSTART:20251102T020000
TZOFFSETFROM:-0700
TZOFFSETTO:-0800
RDATE:20261101T020000
END:STANDARD
BEGIN:DAYLIGHT
TZNAME:PDT
DTSTART:20250309T020000
TZOFFSETFROM:-0800
TZOFFSETTO:-0700
RDATE:20260308T020000
RDATE:20270314T020000
END:DAYLIGHT
END:VTIMEZONE
BEGIN:VEVENT
UID:bbf14032-45bf-43cc-8b5a-e13a0e4a7a10
DTSTAMP:20260421T205832Z
DESCRIPTION:
DTSTART;TZID=America/Los_Angeles:20251221T030000
DTEND;TZID=America/Los_Angeles:20251221T030001
LOCATION:
SUMMARY:Winter Solstice - 7:03 am PT
END:VEVENT
END:VCALENDAR
