BEGIN:VCALENDAR
VERSION:2.0
PRODID:-//astrosociety.org//NONSGML kigkonsult.se iCalcreator 2.30.10//
CALSCALE:GREGORIAN
METHOD:PUBLISH
UID:01391165-eba3-4bbc-a942-11f528611671
X-WR-CALDESC:ASP Partner Event:\n\nAstronomers for Planet Earth (A4E) is an
  international grass-roots movement of astronomy scientists\, educators\, 
 students\, and amateurs working to address the climate crisis from an astr
 onomical perspective. This is a fully virtual symposium\, with which we wa
 nt to provide a perspective on sustainability from experts in the field as
  well as offer a platform for discussion regarding this extremely importan
 t topic. The symposium covers half days from Monday\, 28 November\, throug
 h Friday\, 2 December\, covering all time zones.\n\nOur goal is to grow an
 d strengthen the A4E community and define concrete actions and goals for t
 he next year -- so we need you! All people related to astronomy and intere
 sted in sustainability are warmly invited to register for this event and t
 ake part in the process. We need everyone that is willing to step up and t
 ake action for a more sustainable future. Please register your participati
 on and contribution before October 30\, 2022.\n\nIn the symposium\, we wan
 t to exchange experiences between experts in the field and all participant
 s about:\n\n    Learning about and analyzing the current status of sustain
 ability in astronomy\n    Taking action with A4E: how to get the ball roll
 ing in the community and our institutions\n    Discussing the future of as
 tronomy conferences\n    Teaching sustainability through/in astronomy\n   
  Working on active Projects in A4E\n
X-WR-RELCALID:4bd4b35609db7630090368a542ecef31
X-WR-TIMEZONE:America/Los_Angeles
BEGIN:VTIMEZONE
TZID:America/Los_Angeles
BEGIN:STANDARD
TZNAME:PST
DTSTART:20221106T020000
TZOFFSETFROM:-0700
TZOFFSETTO:-0800
RDATE:20231105T020000
END:STANDARD
BEGIN:DAYLIGHT
TZNAME:PDT
DTSTART:20220313T020000
TZOFFSETFROM:-0800
TZOFFSETTO:-0700
RDATE:20230312T020000
RDATE:20240310T020000
END:DAYLIGHT
END:VTIMEZONE
BEGIN:VEVENT
UID:51f825c3-579e-4a70-affd-c96fc450f049
DTSTAMP:20260422T012257Z
DESCRIPTION:ASP Partner Event:\n\nAstronomers for Planet Earth (A4E) is an 
 international grass-roots movement of astronomy scientists\, educators\, s
 tudents\, and amateurs working to address the climate crisis from an astro
 nomical perspective. This is a fully virtual symposium\, with which we wan
 t to provide a perspective on sustainability from experts in the field as 
 well as offer a platform for discussion regarding this extremely important
  topic. The symposium covers half days from Monday\, 28 November\, through
  Friday\, 2 December\, covering all time zones.\n\nOur goal is to grow and
  strengthen the A4E community and define concrete actions and goals for th
 e next year -- so we need you! All people related to astronomy and interes
 ted in sustainability are warmly invited to register for this event and ta
 ke part in the process. We need everyone that is willing to step up and ta
 ke action for a more sustainable future. Please register your participatio
 n and contribution before October 30\, 2022.\n\nIn the symposium\, we want
  to exchange experiences between experts in the field and all participants
  about:\n\n    Learning about and analyzing the current status of sustaina
 bility in astronomy\n    Taking action with A4E: how to get the ball rolli
 ng in the community and our institutions\n    Discussing the future of ast
 ronomy conferences\n    Teaching sustainability through/in astronomy\n    
 Working on active Projects in A4E\n
DTSTART;TZID=America/Los_Angeles:20221128T000000
DTEND;TZID=America/Los_Angeles:20221202T235900
LOCATION:Virtual Conference
SUMMARY:ASP Partner Event: Astronomers for Planet Earth Virtual Conference
END:VEVENT
END:VCALENDAR
